BEGIN:VCALENDAR
VERSION:2.0
PRODID:-//Fachbereichstag Maschinenbau - ECPv4.8.2//NONSGML v1.0//EN
CALSCALE:GREGORIAN
METHOD:PUBLISH
X-WR-CALNAME:Fachbereichstag Maschinenbau
X-ORIGINAL-URL:https://www.fbt-maschinenbau.de
X-WR-CALDESC:Veranstaltungen im Fachbereichstag Maschinenbau
BEGIN:VEVENT
DTSTART;TZID=Europe/Berlin:20201104T170000
DTEND;TZID=Europe/Berlin:20201104T183000
DTSTAMP:20260423T235313
CREATED:20200926T170803Z
LAST-MODIFIED:20200926T170803Z
UID:2008-1604509200-1604514600@www.fbt-maschinenbau.de
SUMMARY:2. Virtuelle Ländervertretersitzung FBTM
DESCRIPTION:\nDie Sitzung findet vom 04.11.-05.11.2020 jeweils von 17:00 – 18:30 Uhr statt. \nTeilnehmende: LändervertreterInnen des FBTM \n\n
URL:https://www.fbt-maschinenbau.de/termin/2-virtuelle-laendervertretersitzung-fbtm
END:VEVENT
END:VCALENDAR