BEGIN:VCALENDAR
VERSION:2.0
PRODID:-//Fachbereichstag Maschinenbau - ECPv4.8.2//NONSGML v1.0//EN
CALSCALE:GREGORIAN
METHOD:PUBLISH
X-WR-CALNAME:Fachbereichstag Maschinenbau
X-ORIGINAL-URL:https://www.fbt-maschinenbau.de
X-WR-CALDESC:Veranstaltungen im Fachbereichstag Maschinenbau
BEGIN:VEVENT
DTSTART;TZID=Europe/Berlin:20181117T150000
DTEND;TZID=Europe/Berlin:20181117T174500
DTSTAMP:20260419T231617
CREATED:20180930T144114Z
LAST-MODIFIED:20180930T144114Z
UID:1480-1542466800-1542476700@www.fbt-maschinenbau.de
SUMMARY:Workshop "Frauen und Technik - (K)ein Thema?" an der HS Bremen
DESCRIPTION:ormat: Next Generation (inklusive MINT-Speed-Dating mit Studentinnen!) \nTermin: 17.11.2018 (Samstag)\, 15:00 – 17:45 Uhr \nOrt: Hochschule Bremen\, Neustadtswall \nAlter: 8. -12. Klasse \nGruppengröße: 12 Schülerinnen und deren Eltern \nBeschreibung: Frauen können alles werden: Pilotin\, Raumfahrtingenieurin\, Entwicklerin zukunftsfähiger Energiesysteme – aber sind wir sind tatsächlich frei in unserer Berufswahl? \nBei „Next Generation“ beschäftigen Sie sich in einem Kreativ-Workshop gemeinsam mit Ihren Eltern mit Ihrer Zukunft\, Ihren Vorstellungen\, Interessen und Wünschen\, Obendrein lernen Sie die MINT-Studiengänge und Studentinnen der Hochschule Bremen kennen. \nWorkshop-Leitung: Dipl.-Soz. Susanne Peter \nHinweise: Die Veranstaltung ist kostenlos. Für Getränke und Knabbereien ist gesorgt. \nHier geht es zur Online-Anmeldung \nAnmeldeschluss ist am 7. November 2018! \n
URL:https://www.fbt-maschinenbau.de/termin/workshop-frauen-und-technik-kein-thema-an-der-hs-bremen
END:VEVENT
END:VCALENDAR