BEGIN:VCALENDAR
VERSION:2.0
PRODID:-//Fachbereichstag Maschinenbau - ECPv4.8.2//NONSGML v1.0//EN
CALSCALE:GREGORIAN
METHOD:PUBLISH
X-WR-CALNAME:Fachbereichstag Maschinenbau
X-ORIGINAL-URL:https://www.fbt-maschinenbau.de
X-WR-CALDESC:Veranstaltungen im Fachbereichstag Maschinenbau
BEGIN:VEVENT
DTSTART;TZID=Europe/Berlin:20201022T100000
DTEND;TZID=Europe/Berlin:20201022T150000
DTSTAMP:20260424T033653
CREATED:20200926T171228Z
LAST-MODIFIED:20200926T171334Z
UID:2010-1603360800-1603378800@www.fbt-maschinenbau.de
SUMMARY:Online-Workshop des Fachbeirats Ingenieurausbildung des VDI
DESCRIPTION:„Ingenieurinnen und Ingenieure an der Schnittstelle zur Gesellschaft \n– Konsequenzen für die Ausbildung“ \n22.10.2020\, 10.00-15.00 Uhr \n  \n
URL:https://www.fbt-maschinenbau.de/termin/kostenfreier-online-workshop-des-fachbeirats-ingenieurausbildung-des-vdi
LOCATION:Online
END:VEVENT
END:VCALENDAR