BEGIN:VCALENDAR
VERSION:2.0
PRODID:-//Fachbereichstag Maschinenbau - ECPv4.8.2//NONSGML v1.0//EN
CALSCALE:GREGORIAN
METHOD:PUBLISH
X-WR-CALNAME:Fachbereichstag Maschinenbau
X-ORIGINAL-URL:https://www.fbt-maschinenbau.de
X-WR-CALDESC:Veranstaltungen im Fachbereichstag Maschinenbau
BEGIN:VEVENT
DTSTART;TZID=Europe/Berlin:20181119T190000
DTEND;TZID=Europe/Berlin:20181119T210000
DTSTAMP:20260419T214347
CREATED:20180930T142130Z
LAST-MODIFIED:20180930T142130Z
UID:1471-1542654000-1542661200@www.fbt-maschinenbau.de
SUMMARY:Industriedialog: Die vernetzte Modellfabrik von MHP und fahrerlose Transportsysteme
DESCRIPTION:n seinem Vortrag wird Julian Popp die neu erstellte Modellfabrik inklusive SAP-EWM-Anbindung und Flottenmanagement-Integration vorstellen. In Kooperation mit dem Unternehmen Serva TS wurden kleine FTF konzipiert und gebaut\, die auf der Modelloberfläche sowohl Logistik- als auch Produktionsaufgaben wahrnehmen. Dabei kamen unterschiedliche technische Systeme und Protokolle zum Einsatz\, die ausführlich präsentiert werden. Aktuell werden unterschiedliche Erweiterungen wie die Integration von IoT-Sensoren sowie Showcases für Sprachbedienung und Blockhain-Beispiele in die Modellfabrik integriert und im Vortrag vorgestellt. \n
URL:https://www.fbt-maschinenbau.de/termin/industriedialog-die-vernetzte-modellfabrik-von-mhp-und-fahrerlose-transportsysteme
LOCATION:Hochschule Aalen\, Beethovenstraße 1\, Aalen\, 73430\, Deutschland
END:VEVENT
END:VCALENDAR