BEGIN:VCALENDAR
VERSION:2.0
PRODID:-//Fachbereichstag Maschinenbau - ECPv4.8.2//NONSGML v1.0//EN
CALSCALE:GREGORIAN
METHOD:PUBLISH
X-WR-CALNAME:Fachbereichstag Maschinenbau
X-ORIGINAL-URL:https://www.fbt-maschinenbau.de
X-WR-CALDESC:Veranstaltungen im Fachbereichstag Maschinenbau
BEGIN:VEVENT
DTSTART;VALUE=DATE:20181129
DTEND;VALUE=DATE:20181201
DTSTAMP:20260419T180733
CREATED:20180930T123842Z
LAST-MODIFIED:20180930T123908Z
UID:1411-1543449600-1543622399@www.fbt-maschinenbau.de
SUMMARY:Hagener Symposium Pulvermetallurgie Hagen
DESCRIPTION:Das Hagener Symposium ist eine Fachkonferenz für Pulvermetallurgie. Es dient als Forum\, um einerseits die zukünftigen Anforderungen an derzeitige und zukünftige pulvermetallurgische Produkte zu diskutieren und andererseits\, um die vielfältigen Möglichkeiten vorzustellen\, die die Pulvermetallurgie bietet. Abgerundet wird das Hagener Symposium von einer begleitenden Fachausstellung. \nDie siebenunddreißigste Auflage der Hagener Symposium Pulvermetallurgie findet an 2 Tagen von Do.\, 29.11.2018 bis Fr.\, 30.11.2018 in Hagen statt. \n
URL:https://www.fbt-maschinenbau.de/termin/hagener-symposium-pulvermetallurgie-hagen
LOCATION:Hagen
END:VEVENT
END:VCALENDAR